BEGIN:VCALENDAR
VERSION:2.0
PRODID:-//HMI-MBS - ECPv6.15.18//NONSGML v1.0//EN
CALSCALE:GREGORIAN
METHOD:PUBLISH
X-WR-CALNAME:HMI-MBS
X-ORIGINAL-URL:https://www.hmi-mbs.fr
X-WR-CALDESC:évènements pour HMI-MBS
REFRESH-INTERVAL;VALUE=DURATION:PT1H
X-Robots-Tag:noindex
X-PUBLISHED-TTL:PT1H
BEGIN:VTIMEZONE
TZID:Europe/Paris
BEGIN:DAYLIGHT
TZOFFSETFROM:+0100
TZOFFSETTO:+0200
TZNAME:CEST
DTSTART:20210328T010000
END:DAYLIGHT
BEGIN:STANDARD
TZOFFSETFROM:+0200
TZOFFSETTO:+0100
TZNAME:CET
DTSTART:20211031T010000
END:STANDARD
BEGIN:DAYLIGHT
TZOFFSETFROM:+0100
TZOFFSETTO:+0200
TZNAME:CEST
DTSTART:20220327T010000
END:DAYLIGHT
BEGIN:STANDARD
TZOFFSETFROM:+0200
TZOFFSETTO:+0100
TZNAME:CET
DTSTART:20221030T010000
END:STANDARD
BEGIN:DAYLIGHT
TZOFFSETFROM:+0100
TZOFFSETTO:+0200
TZNAME:CEST
DTSTART:20230326T010000
END:DAYLIGHT
BEGIN:STANDARD
TZOFFSETFROM:+0200
TZOFFSETTO:+0100
TZNAME:CET
DTSTART:20231029T010000
END:STANDARD
END:VTIMEZONE
BEGIN:VEVENT
DTSTART;VALUE=DATE:20221124
DTEND;VALUE=DATE:20221126
DTSTAMP:20260420T032923
CREATED:20221117T142137Z
LAST-MODIFIED:20221117T142916Z
UID:10000084-1669248000-1669420799@www.hmi-mbs.fr
SUMMARY:Rencontres Aéronautiques à Beauval – Conférence sur la robotique collaborative
DESCRIPTION:  \n \nNous vous donnons rendez-vous à la 8ème édition des Rencontres Aéronautiques\, à Beauval les Jeudi 24 & Vendredi 25 novembre 2022 \nNotre équipe se fera un plaisir de vous renseigner ! \nAlors venez découvrir les robots collaboratifs d’Universal Robots
URL:https://www.hmi-mbs.fr/evenement/rencontres-aeronautiques-a-beauval-conference-sur-la-robotique-collaborative/
LOCATION:Beauval\, Les Hauts de Beauval\, Saint-Aignan\, 41110\, France
END:VEVENT
END:VCALENDAR